BEGIN:VCALENDAR
VERSION:2.0
PRODID:-//stones-kitchen.de - ECPv6.15.18//NONSGML v1.0//EN
CALSCALE:GREGORIAN
METHOD:PUBLISH
X-WR-CALNAME:stones-kitchen.de
X-ORIGINAL-URL:https://stones-kitchen.de
X-WR-CALDESC:Veranstaltungen für stones-kitchen.de
REFRESH-INTERVAL;VALUE=DURATION:PT1H
X-Robots-Tag:noindex
X-PUBLISHED-TTL:PT1H
BEGIN:VTIMEZONE
TZID:Europe/Paris
BEGIN:DAYLIGHT
TZOFFSETFROM:+0100
TZOFFSETTO:+0200
TZNAME:CEST
DTSTART:20250330T010000
END:DAYLIGHT
BEGIN:STANDARD
TZOFFSETFROM:+0200
TZOFFSETTO:+0100
TZNAME:CET
DTSTART:20251026T010000
END:STANDARD
BEGIN:DAYLIGHT
TZOFFSETFROM:+0100
TZOFFSETTO:+0200
TZNAME:CEST
DTSTART:20260329T010000
END:DAYLIGHT
BEGIN:STANDARD
TZOFFSETFROM:+0200
TZOFFSETTO:+0100
TZNAME:CET
DTSTART:20261025T010000
END:STANDARD
BEGIN:DAYLIGHT
TZOFFSETFROM:+0100
TZOFFSETTO:+0200
TZNAME:CEST
DTSTART:20270328T010000
END:DAYLIGHT
BEGIN:STANDARD
TZOFFSETFROM:+0200
TZOFFSETTO:+0100
TZNAME:CET
DTSTART:20271031T010000
END:STANDARD
END:VTIMEZONE
BEGIN:VTIMEZONE
TZID:Europe/Berlin
BEGIN:DAYLIGHT
TZOFFSETFROM:+0100
TZOFFSETTO:+0200
TZNAME:CEST
DTSTART:20250330T010000
END:DAYLIGHT
BEGIN:STANDARD
TZOFFSETFROM:+0200
TZOFFSETTO:+0100
TZNAME:CET
DTSTART:20251026T010000
END:STANDARD
BEGIN:DAYLIGHT
TZOFFSETFROM:+0100
TZOFFSETTO:+0200
TZNAME:CEST
DTSTART:20260329T010000
END:DAYLIGHT
BEGIN:STANDARD
TZOFFSETFROM:+0200
TZOFFSETTO:+0100
TZNAME:CET
DTSTART:20261025T010000
END:STANDARD
BEGIN:DAYLIGHT
TZOFFSETFROM:+0100
TZOFFSETTO:+0200
TZNAME:CEST
DTSTART:20270328T010000
END:DAYLIGHT
BEGIN:STANDARD
TZOFFSETFROM:+0200
TZOFFSETTO:+0100
TZNAME:CET
DTSTART:20271031T010000
END:STANDARD
END:VTIMEZONE
BEGIN:VEVENT
DTSTART;VALUE=DATE:20260117
DTEND;VALUE=DATE:20260118
DTSTAMP:20260419T164632
CREATED:20221229T100316Z
LAST-MODIFIED:20251103T193305Z
UID:5703-1768608000-1768694399@stones-kitchen.de
SUMMARY:Cook&Fun - Gruppen-Event
DESCRIPTION:Das besondere Event für Familie\, Freunde oder andere Personenkreise. In gemütlicher Atmosphäre kochen wir gemeinsam ein 5-Gänge-Menü und lassen den Alltag hinter uns. \nDie perfekte Veranstaltung um gemeinsam ein paar schöne Stunden zu verbringen! \nTermine können ab einer Gruppengröße von 8 Personen individuell vereinbart werden. \nDieser Termin wurde bereits von einer Gruppe gebucht! \nTeile diesen Eintrag 
URL:https://stones-kitchen.de/event/cookfun-gruppen-event-10/
LOCATION:Stones Kitchen\, Philipp-Reis-Str. 4\, Freiensteinau\, Hessen\, 36399\, Deutschland
CATEGORIES:Koch-Events,Kochkurse
ATTACH;FMTTYPE=image/jpeg:https://stones-kitchen.de/wp-content/uploads/2019/08/Meero-DSC08389.jpg
END:VEVENT
BEGIN:VEVENT
DTSTART;VALUE=DATE:20260131
DTEND;VALUE=DATE:20260201
DTSTAMP:20260419T164632
CREATED:20221229T110242Z
LAST-MODIFIED:20251103T193338Z
UID:5759-1769817600-1769903999@stones-kitchen.de
SUMMARY:Cook&Fun - Gruppen-Event
DESCRIPTION:Das besondere Event für Familie\, Freunde oder andere Personenkreise. In gemütlicher Atmosphäre kochen wir gemeinsam ein 5-Gänge-Menü und lassen den Alltag hinter uns. \nDie perfekte Veranstaltung um gemeinsam ein paar schöne Stunden zu verbringen! \nTermine können ab einer Gruppengröße von 8 Personen individuell vereinbart werden. \nDieser Termin wurde bereits von einer Gruppe gebucht! \nTeile diesen Eintrag 
URL:https://stones-kitchen.de/event/cookfun-gruppen-event-20/
LOCATION:Stones Kitchen\, Philipp-Reis-Str. 4\, Freiensteinau\, Hessen\, 36399\, Deutschland
CATEGORIES:Koch-Events,Kochkurse
ATTACH;FMTTYPE=image/jpeg:https://stones-kitchen.de/wp-content/uploads/2022/02/F68629B8-4697-4E70-B4E8-104CD31C0559.jpeg
END:VEVENT
END:VCALENDAR