BEGIN:VCALENDAR
VERSION:2.0
PRODID:-//stones-kitchen.de - ECPv6.15.18//NONSGML v1.0//EN
CALSCALE:GREGORIAN
METHOD:PUBLISH
X-WR-CALNAME:stones-kitchen.de
X-ORIGINAL-URL:https://stones-kitchen.de
X-WR-CALDESC:Veranstaltungen für stones-kitchen.de
REFRESH-INTERVAL;VALUE=DURATION:PT1H
X-Robots-Tag:noindex
X-PUBLISHED-TTL:PT1H
BEGIN:VTIMEZONE
TZID:Europe/Berlin
BEGIN:DAYLIGHT
TZOFFSETFROM:+0100
TZOFFSETTO:+0200
TZNAME:CEST
DTSTART:20250330T010000
END:DAYLIGHT
BEGIN:STANDARD
TZOFFSETFROM:+0200
TZOFFSETTO:+0100
TZNAME:CET
DTSTART:20251026T010000
END:STANDARD
BEGIN:DAYLIGHT
TZOFFSETFROM:+0100
TZOFFSETTO:+0200
TZNAME:CEST
DTSTART:20260329T010000
END:DAYLIGHT
BEGIN:STANDARD
TZOFFSETFROM:+0200
TZOFFSETTO:+0100
TZNAME:CET
DTSTART:20261025T010000
END:STANDARD
BEGIN:DAYLIGHT
TZOFFSETFROM:+0100
TZOFFSETTO:+0200
TZNAME:CEST
DTSTART:20270328T010000
END:DAYLIGHT
BEGIN:STANDARD
TZOFFSETFROM:+0200
TZOFFSETTO:+0100
TZNAME:CET
DTSTART:20271031T010000
END:STANDARD
BEGIN:DAYLIGHT
TZOFFSETFROM:+0100
TZOFFSETTO:+0200
TZNAME:CEST
DTSTART:20280326T010000
END:DAYLIGHT
BEGIN:STANDARD
TZOFFSETFROM:+0200
TZOFFSETTO:+0100
TZNAME:CET
DTSTART:20281029T010000
END:STANDARD
BEGIN:DAYLIGHT
TZOFFSETFROM:+0100
TZOFFSETTO:+0200
TZNAME:CEST
DTSTART:20290325T010000
END:DAYLIGHT
BEGIN:STANDARD
TZOFFSETFROM:+0200
TZOFFSETTO:+0100
TZNAME:CET
DTSTART:20291028T010000
END:STANDARD
END:VTIMEZONE
BEGIN:VTIMEZONE
TZID:Europe/Paris
BEGIN:DAYLIGHT
TZOFFSETFROM:+0100
TZOFFSETTO:+0200
TZNAME:CEST
DTSTART:20250330T010000
END:DAYLIGHT
BEGIN:STANDARD
TZOFFSETFROM:+0200
TZOFFSETTO:+0100
TZNAME:CET
DTSTART:20251026T010000
END:STANDARD
BEGIN:DAYLIGHT
TZOFFSETFROM:+0100
TZOFFSETTO:+0200
TZNAME:CEST
DTSTART:20260329T010000
END:DAYLIGHT
BEGIN:STANDARD
TZOFFSETFROM:+0200
TZOFFSETTO:+0100
TZNAME:CET
DTSTART:20261025T010000
END:STANDARD
BEGIN:DAYLIGHT
TZOFFSETFROM:+0100
TZOFFSETTO:+0200
TZNAME:CEST
DTSTART:20270328T010000
END:DAYLIGHT
BEGIN:STANDARD
TZOFFSETFROM:+0200
TZOFFSETTO:+0100
TZNAME:CET
DTSTART:20271031T010000
END:STANDARD
END:VTIMEZONE
BEGIN:VEVENT
DTSTART;VALUE=DATE:20260316
DTEND;VALUE=DATE:20280316
DTSTAMP:20260419T194434
CREATED:20221229T103510Z
LAST-MODIFIED:20260105T100251Z
UID:5740-1773619200-1836777599@stones-kitchen.de
SUMMARY:Individuelle Kochkurse by Stone´s Kitchen
DESCRIPTION:Sie möchten mit Freunden\, Kollegen oder der Familie einen individuellen Kochkurs erleben? \nDann sind Sie bei Stone´s Kitchen genau richtig! \nAb einer Gruppengröße von 8 Personen stimme ich gerne einen individuellen Termin mit Ihnen ab. Weitere Vorteile für Sie: \n\nflexible Menü-Gestaltung\npersönliche Betreuung\nflexible Zeiten\nu.v.m.\n\nIch freue mich über Ihre persönliche Anfrage!! \nTeile diesen Eintrag 
URL:https://stones-kitchen.de/event/individuelle-kochkurse-by-stones-kitchen/
LOCATION:Stones Kitchen\, Philipp-Reis-Str. 4\, Freiensteinau\, Hessen\, 36399\, Deutschland
CATEGORIES:Koch-Events,Kochkurse
ATTACH;FMTTYPE=image/jpeg:https://stones-kitchen.de/wp-content/uploads/2022/02/IMG_8294-scaled.jpeg
END:VEVENT
BEGIN:VEVENT
DTSTART;VALUE=DATE:20260620
DTEND;VALUE=DATE:20260621
DTSTAMP:20260419T194434
CREATED:20240705T124223Z
LAST-MODIFIED:20260105T100412Z
UID:13559-1781913600-1781999999@stones-kitchen.de
SUMMARY:Catering
DESCRIPTION:STONE´S KITCHEN BIETET CATERING FÜR DEINE HOCHZEIT\, GEBURTSTAG\, DIE FIRMEN­FEIER ODER DEIN GANZ PERSÖNLICHES EVENT!\n·       nutze doch einfach unsere Showküche mit Lounge für deine Feier!\n·       hier haben wir Platz für bis zu 30 Pers.\n·       außer Haus Caterings sind ab 25 Pers. möglich\n·       individuelle Menüzusammenstellung\n·       Frontcooking mit Menüstationen möglich\n·       tolle Produkte\n·       Du feierst in der Eventgalerie Maul? Perfekt\, denn wir sind schon vor Ort und können dich optimal bei deiner Feier unterstützen!\n·       uvm.\nTeile diesen Eintrag 
URL:https://stones-kitchen.de/event/catering/
LOCATION:Stones Kitchen\, Philipp-Reis-Str. 4\, Freiensteinau\, Hessen\, 36399\, Deutschland
CATEGORIES:Catering
ATTACH;FMTTYPE=image/jpeg:https://stones-kitchen.de/wp-content/uploads/2024/10/4a1181ec-1916-4f20-a9d5-f7eb7d2639ef.jpeg
END:VEVENT
END:VCALENDAR